BEGIN:VCALENDAR
VERSION:2.0
PRODID:-//hacksw/handcal//NONSGML v1.0//EN
CALSCALE:GREGORIAN
X-WR-TIMEZONE:Europe/Vienna
BEGIN:VEVENT
DESCRIPTION:E-Businessmarathon Startnummern-Ausgabe
DTSTART:20260519T120000
DTEND:20260520T190000
URL;VALUE=URI:https://www.citypark.at/de/events/startnummern-ausgabe/2026-05-19/2026-05-20/
SUMMARY:E-Businessmarathon Startnummern-Ausgabe
LOCATION:Hervis
DTSTAMP:20260424T080330
UID:69eb23d2cfc95
END:VEVENT
END:VCALENDAR