BEGIN:VCALENDAR
VERSION:2.0
PRODID:-//hacksw/handcal//NONSGML v1.0//EN
CALSCALE:GREGORIAN
X-WR-TIMEZONE:Europe/Vienna
BEGIN:VEVENT
DESCRIPTION:Bauernmarkt | 24.04.
DTSTART:20260424T100000
DTEND:20260424T160000
URL;VALUE=URI:https://www.citypark.at/de/events/bauernmarkt-24-04/2026-04-24
SUMMARY:Bauernmarkt | 24.04.
LOCATION:CITYPARK Fußgängerzone
DTSTAMP:20260419T104401
UID:69e4b1f1913e1
END:VEVENT
END:VCALENDAR