BEGIN:VCALENDAR
VERSION:2.0
PRODID:-//hacksw/handcal//NONSGML v1.0//EN
CALSCALE:GREGORIAN
X-WR-TIMEZONE:Europe/Vienna
BEGIN:VEVENT
DESCRIPTION:Bauernmarkt | 08.05.
DTSTART:20260508T100000
DTEND:20260508T160000
URL;VALUE=URI:https://www.citypark.at/de/events/bauernmarkt-08-05/2026-05-08
SUMMARY:Bauernmarkt | 08.05.
LOCATION:CITYPARK Fußgängerzone
DTSTAMP:20260419T140034
UID:69e4e0023eab0
END:VEVENT
END:VCALENDAR