BEGIN:VCALENDAR
VERSION:2.0
PRODID:-//hacksw/handcal//NONSGML v1.0//EN
CALSCALE:GREGORIAN
X-WR-TIMEZONE:Europe/Vienna
BEGIN:VEVENT
DESCRIPTION:Bauernmarkt | 15.05.
DTSTART:20260515T100000
DTEND:20260515T160000
URL;VALUE=URI:https://www.citypark.at/de/events/bauernmarkt-15-05/2026-05-15
SUMMARY:Bauernmarkt | 15.05.
LOCATION:CITYPARK Fußgängerzone
DTSTAMP:20260419T121314
UID:69e4c6da7e383
END:VEVENT
END:VCALENDAR