BEGIN:VCALENDAR
VERSION:2.0
PRODID:-//hacksw/handcal//NONSGML v1.0//EN
CALSCALE:GREGORIAN
X-WR-TIMEZONE:Europe/Vienna
BEGIN:VEVENT
DESCRIPTION:Bauernmarkt | 29.05.
DTSTART:20260529T100000
DTEND:20260529T160000
URL;VALUE=URI:https://www.citypark.at/de/events/bauernmarkt-29-05/2026-05-29
SUMMARY:Bauernmarkt | 29.05.
LOCATION:CITYPARK Fußgängerzone
DTSTAMP:20260419T132056
UID:69e4d6b8e98b0
END:VEVENT
END:VCALENDAR