BEGIN:VCALENDAR
VERSION:2.0
PRODID:-//hacksw/handcal//NONSGML v1.0//EN
CALSCALE:GREGORIAN
X-WR-TIMEZONE:Europe/Vienna
BEGIN:VEVENT
DESCRIPTION:Bauernmarkt | 22.05.
DTSTART:20260522T100000
DTEND:20260522T160000
URL;VALUE=URI:https://www.citypark.at/de/events/bauernmarkt-22-05/2026-05-22
SUMMARY:Bauernmarkt | 22.05.
LOCATION:CITYPARK Fußgängerzone
DTSTAMP:20260419T152245
UID:69e4f3457cb91
END:VEVENT
END:VCALENDAR