BEGIN:VCALENDAR
VERSION:2.0
PRODID:-//hacksw/handcal//NONSGML v1.0//EN
CALSCALE:GREGORIAN
X-WR-TIMEZONE:Europe/Vienna
BEGIN:VEVENT
DESCRIPTION:Bauernmarkt | 05.06.
DTSTART:20260605T100000
DTEND:20260605T160000
URL;VALUE=URI:https://www.citypark.at/de/events/bauernmarkt-05-06/2026-06-05
SUMMARY:Bauernmarkt | 05.06.
LOCATION:CITYPARK Fußgängerzone
DTSTAMP:20260419T132115
UID:69e4d6cb032e5
END:VEVENT
END:VCALENDAR