BEGIN:VCALENDAR
VERSION:2.0
PRODID:-//hacksw/handcal//NONSGML v1.0//EN
CALSCALE:GREGORIAN
X-WR-TIMEZONE:Europe/Vienna
BEGIN:VEVENT
DESCRIPTION:Bauernmarkt | 19.06.
DTSTART:20260619T100000
DTEND:20260619T160000
URL;VALUE=URI:https://www.citypark.at/de/events/bauernmarkt-19-06/2026-06-19
SUMMARY:Bauernmarkt | 19.06.
LOCATION:CITYPARK Fußgängerzone
DTSTAMP:20260419T132204
UID:69e4d6fcead2c
END:VEVENT
END:VCALENDAR