BEGIN:VCALENDAR
VERSION:2.0
PRODID:-//hacksw/handcal//NONSGML v1.0//EN
CALSCALE:GREGORIAN
X-WR-TIMEZONE:Europe/Vienna
BEGIN:VEVENT
DESCRIPTION:Bauernmarkt | 12.06.
DTSTART:20260612T100000
DTEND:20260612T160000
URL;VALUE=URI:https://www.citypark.at/de/events/bauernmarkt-12-06/2026-06-12
SUMMARY:Bauernmarkt | 12.06.
LOCATION:CITYPARK Fußgängerzone
DTSTAMP:20260419T153224
UID:69e4f588d2cfb
END:VEVENT
END:VCALENDAR