BEGIN:VCALENDAR
VERSION:2.0
PRODID:-//hacksw/handcal//NONSGML v1.0//EN
CALSCALE:GREGORIAN
X-WR-TIMEZONE:Europe/Vienna
BEGIN:VEVENT
DESCRIPTION:Bauernmarkt | 26.06.
DTSTART:20260626T100000
DTEND:20260626T160000
URL;VALUE=URI:https://www.citypark.at/de/events/bauernmarkt-26-06/2026-06-26
SUMMARY:Bauernmarkt | 26.06.
LOCATION:CITYPARK Fußgängerzone
DTSTAMP:20260419T132222
UID:69e4d70e85aff
END:VEVENT
END:VCALENDAR