BEGIN:VCALENDAR
VERSION:2.0
PRODID:-//hacksw/handcal//NONSGML v1.0//EN
CALSCALE:GREGORIAN
X-WR-TIMEZONE:Europe/Vienna
BEGIN:VEVENT
DESCRIPTION:Bauernmarkt | 24.07.
DTSTART:20260724T100000
DTEND:20260724T160000
URL;VALUE=URI:https://www.citypark.at/de/events/bauernmarkt-24-07/2026-07-24
SUMMARY:Bauernmarkt | 24.07.
LOCATION:CITYPARK Fußgängerzone
DTSTAMP:20260419T135633
UID:69e4df111f41f
END:VEVENT
END:VCALENDAR