BEGIN:VCALENDAR
VERSION:2.0
PRODID:-//hacksw/handcal//NONSGML v1.0//EN
CALSCALE:GREGORIAN
X-WR-TIMEZONE:Europe/Vienna
BEGIN:VEVENT
DESCRIPTION:Bauernmarkt | 03.07.
DTSTART:20260703T100000
DTEND:20260703T160000
URL;VALUE=URI:https://www.citypark.at/de/events/bauernmarkt-03-07/2026-07-03
SUMMARY:Bauernmarkt | 03.07.
LOCATION:CITYPARK Fußgängerzone
DTSTAMP:20260419T132254
UID:69e4d72ea7a85
END:VEVENT
END:VCALENDAR