BEGIN:VCALENDAR
VERSION:2.0
PRODID:-//hacksw/handcal//NONSGML v1.0//EN
CALSCALE:GREGORIAN
X-WR-TIMEZONE:Europe/Vienna
BEGIN:VEVENT
DESCRIPTION:Bauernmarkt | 17.07.
DTSTART:20260717T100000
DTEND:20260717T160000
URL;VALUE=URI:https://www.citypark.at/de/events/bauernmarkt-17-07/2026-07-17
SUMMARY:Bauernmarkt | 17.07.
LOCATION:CITYPARK Fußgängerzone
DTSTAMP:20260419T135931
UID:69e4dfc393185
END:VEVENT
END:VCALENDAR