BEGIN:VCALENDAR
VERSION:2.0
PRODID:-//hacksw/handcal//NONSGML v1.0//EN
CALSCALE:GREGORIAN
X-WR-TIMEZONE:Europe/Vienna
BEGIN:VEVENT
DESCRIPTION:Bauernmarkt | 10.07.
DTSTART:20260710T100000
DTEND:20260710T160000
URL;VALUE=URI:https://www.citypark.at/de/events/bauernmarkt-26-06-2/2026-07-10
SUMMARY:Bauernmarkt | 10.07.
LOCATION:CITYPARK Fußgängerzone
DTSTAMP:20260419T121807
UID:69e4c7ffedfd6
END:VEVENT
END:VCALENDAR