BEGIN:VCALENDAR
VERSION:2.0
PRODID:-//hacksw/handcal//NONSGML v1.0//EN
CALSCALE:GREGORIAN
X-WR-TIMEZONE:Europe/Vienna
BEGIN:VEVENT
DESCRIPTION:Bauernmarkt | 31.07.
DTSTART:20260731T100000
DTEND:20260731T160000
URL;VALUE=URI:https://www.citypark.at/de/events/bauernmarkt-31-07/2026-07-31
SUMMARY:Bauernmarkt | 31.07.
LOCATION:CITYPARK Fußgängerzone
DTSTAMP:20260419T140142
UID:69e4e046eb39a
END:VEVENT
END:VCALENDAR